BEGIN:VCALENDAR
VERSION:2.0
PRODID:-//Victoria Tasmania District of the Lutheran Church of Australia - ECPv6.6.2//NONSGML v1.0//EN
CALSCALE:GREGORIAN
METHOD:PUBLISH
X-WR-CALNAME:Victoria Tasmania District of the Lutheran Church of Australia
X-ORIGINAL-URL:https://www.vic.lca.org.au
X-WR-CALDESC:Events for Victoria Tasmania District of the Lutheran Church of Australia
REFRESH-INTERVAL;VALUE=DURATION:PT1H
X-Robots-Tag:noindex
X-PUBLISHED-TTL:PT1H
BEGIN:VTIMEZONE
TZID:UTC
BEGIN:STANDARD
TZOFFSETFROM:+0000
TZOFFSETTO:+0000
TZNAME:UTC
DTSTART:20210101T000000
END:STANDARD
END:VTIMEZONE
BEGIN:VEVENT
DTSTART;TZID=UTC:20230226T150000
DTEND;TZID=UTC:20230226T163000
DTSTAMP:20260425T024003
CREATED:20230222T124717Z
LAST-MODIFIED:20230222T124717Z
UID:10794-1677423600-1677429000@www.vic.lca.org.au
SUMMARY:Installation of Pastor Colin Simpkin at Bendigo
DESCRIPTION:
URL:https://www.vic.lca.org.au/event/installation-of-pastor-colin-simpkin-at-bendigo/
LOCATION:Bethlehem Lutheran Congregation\, 94 Spring Gully Road\, Spring Gully\, 94 Spring Gully Road\, Spring Gully\, Victoria\, 3550\, Australia
CATEGORIES:Installation
END:VEVENT
BEGIN:VEVENT
DTSTART;TZID=UTC:20210224T080000
DTEND;TZID=UTC:20210224T170000
DTSTAMP:20260425T024003
CREATED:20210224T171721Z
LAST-MODIFIED:20210224T171721Z
UID:9258-1614153600-1614186000@www.vic.lca.org.au
SUMMARY:2021 LCA Victorian & Tasmanian District Convention of Synod
DESCRIPTION:The Victorian and Tasmanian District will meet for Convention of Synod at Geelong Lutheran College\, Armstrong Creek Campus\, on Saturday 22 May 2021.\nSee the Convention of Synod website for more details
URL:https://www.vic.lca.org.au/event/2021-lca-victorian-tasmanian-district-convention-of-synod/
LOCATION:Victoria
END:VEVENT
END:VCALENDAR